BEGIN:VCALENDAR
VERSION:2.0
PRODID:-//ConVerve GmbH//B2BMatch//EN
METHOD:PUBLISH
BEGIN:VEVENT
DTSTART:20260224T060000Z
DTEND:20260226T220000Z
SUMMARY:EduCanada and the Trade Commissioner Service at APAIE 2026
LOCATION:
DESCRIPTION:
UID:0000001
DTSTAMP:20180215T145139Z
END:VEVENT
END:VCALENDAR
